BEGIN:VCALENDAR
VERSION:2.0
PRODID:-//wp-events-plugin.com//7.2.3.1//EN
TZID:America/Chicago
X-WR-TIMEZONE:America/Chicago
BEGIN:VEVENT
UID:24@ccgstexas.org
DTSTART;TZID=America/Chicago:20130907T080000
DTEND;TZID=America/Chicago:20130907T170000
DTSTAMP:20130630T151628Z
URL:https://www.ccgstexas.org/events/the-alamo-mission-and-myth-hosted-by-
 the-texas-general-land-office/
SUMMARY:The Alamo: Mission and Myth - hosted by the Texas General Land Offi
 ce - Menger Hotel - 7 Sep 13 08:00
DESCRIPTION:\n\n\n\n\n\nDear Friends\,Stories of the Alamo - many true\, so
 me imagined\, all are larger than life.  Explore Alamo history at the fou
 rth annual Save Texas History Symposium - The Alamo:  Mission and Myth.Fo
 r the first time\, trace patriot footsteps at Texas' most venerable locale
  with historians Alwyn Barr\, Gilberto Hinojosa\, COL (ret.) Thomas T. "Ty
 " Smith and Andres Tijerina.  Enjoy an evening "behind the scenes" Alamo 
 reception with symposium speakers."The Alamo:  Mission and Myth" promises
  an enlightening symposium in a new venue.  I hope you'll join us in San 
 Antonio.\n\nSign up here today!\n\nSincerely\,\n\n\n\nJerry Patterson\n\nC
 ommissioner\, Texas General Land Office\n\n&nbsp\;\nSpecial room rates ava
 ilable at The Menger Hotel.\nBook Online or go to: The Menger Hotel and
  enter the Group Code\,\nTGLO13 on the reservations page.\n\n\n\nRegiste
 r online by August 31st
CATEGORIES:Other Event
LOCATION:Menger Hotel\, 204 Alamo Plaza\, San Antonio\, TX\, 78205\, United
  States
GEO:29.424646;-98.48594500000002
X-APPLE-STRUCTURED-LOCATION;VALUE=URI;X-ADDRESS=204 Alamo Plaza\, San Anton
 io\, TX\, 78205\, United States;X-APPLE-RADIUS=100;X-TITLE=Menger Hotel:ge
 o:29.424646,-98.48594500000002
END:VEVENT
BEGIN:VTIMEZONE
TZID:America/Chicago
X-LIC-LOCATION:America/Chicago
BEGIN:DAYLIGHT
DTSTART:20130310T030000
TZOFFSETFROM:-0600
TZOFFSETTO:-0500
TZNAME:CDT
END:DAYLIGHT
END:VTIMEZONE
END:VCALENDAR