BEGIN:VCALENDAR
VERSION:2.0
PRODID:-//wp-events-plugin.com//7.2.3.1//EN
TZID:America/Chicago
X-WR-TIMEZONE:America/Chicago
BEGIN:VEVENT
UID:28@ccgstexas.org
DTSTART;TZID=America/Chicago;VALUE=DATE:20131031
DTEND;TZID=America/Chicago;VALUE=DATE:20131104
DTSTAMP:20130720T171233Z
URL:https://www.ccgstexas.org/events/texas-state-genealogical-society-2013
 -annual-conference/
SUMMARY:Texas State Genealogical Society 2013 Annual Conference - Wingate b
 y Wyndham Hotel & Conference Center - 31 Oct 13 00:00
DESCRIPTION:Texas State Genealogical Society\n2013 Annual Conference\n“Bl
 azing the Family History Trail”\nRound Rock\, Texas\n31 October through 
 2 November 2013\n\n\nKey Speaker: Thomas W. Jones\, PhD\, CG\, CGL\, FASG
 \, FUGA\, FNGS\n\nThursday\, Oct. 31 – Partner Society Sessions\; Librar
 ian’s Track\; FamilySearch Classes\nFriday\, Nov. 1 – Variety of clas
 ses offered for genealogists of all experience levels\nSat. Nov. 2 – Fou
 r lectures from Thomas W. Jones\n\nRegistration begins August 2013!\n\nFor
  those attending from outside the Round Rock area\, lodging information 
 is available for the conference hotel.\n\nAnd a special thanks goes out to
  the TSGS 2013 Conference Committee.\n\nFor updates see http://www.txsgs
 .org/about/conference/
CATEGORIES:Other Event
LOCATION:Wingate by Wyndham Hotel & Conference Center\, 1209 North Intersta
 te Highway 35\, Round Rock\, Texas\, 78664\, United States
GEO:30.519302160546026;-97.68735328649291
X-APPLE-STRUCTURED-LOCATION;VALUE=URI;X-ADDRESS=1209 North Interstate Highw
 ay 35\, Round Rock\, Texas\, 78664\, United States;X-APPLE-RADIUS=100;X-TI
 TLE=Wingate by Wyndham Hotel & Conference Center:geo:30.519302160546026,-9
 7.68735328649291
END:VEVENT
BEGIN:VTIMEZONE
TZID:America/Chicago
X-LIC-LOCATION:America/Chicago
BEGIN:DAYLIGHT
DTSTART:20130310T030000
TZOFFSETFROM:-0600
TZOFFSETTO:-0500
TZNAME:CDT
END:DAYLIGHT
END:VTIMEZONE
END:VCALENDAR