BEGIN:VCALENDAR
VERSION:2.0
PRODID:-//wp-events-plugin.com//7.2.3.1//EN
TZID:America/Chicago
X-WR-TIMEZONE:America/Chicago
BEGIN:VEVENT
UID:25@ccgstexas.org
DTSTART;TZID=America/Chicago:20130704T140000
DTEND;TZID=America/Chicago:20130704T160000
DTSTAMP:20130630T152929Z
URL:https://www.ccgstexas.org/events/selma-stage-stop-park-historical-mark
 er-dedication/
SUMMARY:Selma Stage Stop Park - Historical Marker dedication - Selma Stage 
 Stop Park - 4 Jul 13 14:00
DESCRIPTION:After a 14-year effort and support by all of you Foundation mem
 bers\, the state historical marker will be placed in front of the Harrison
  &amp\; McCulloch Stage Stop at 2:00 p.m.\, July 4th\, at the Selma Stage
  Stop Park.  This is late notice\, but as always it took time to coordina
 te with the City staff.  The Visitors Center will be open for viewing wit
 h the beginnings of what we hope will be more exhibits inside.  If you re
 member\, the Selma Historical Foundation paid for the initial exhibits an
 d our member\, Jim Burdett\, did the framing and with the help of another 
 member\, Jose Silva\, hung the exhibits in the Visitors Center.  Gilbert
  Medina from the state museum did the graphics and layout for us at a much
  reduced cost.  Come and see their handiwork if you are in the area next 
 week.\n\nThe Randolph Metrocom Chamber of Commerce will be vacating the Vi
 sitors Center mid-September and City staff will be taking over the locatio
 n.  Hours should be 8am - 5pm\, but still no Saturdays open.  Hopefully
 \, that will change in the near future with volunteers allowed to open the
  Center for at least the mid-day hours on Saturdays for tourists and visit
 ors.\n\nAll the best --\n\nJean Heide
CATEGORIES:Other Event
LOCATION:Selma Stage Stop Park\, 8356 Agora Pkwy\, Selma\, TX\, 78154\, Uni
 ted States
GEO:29.5745304;-98.32337059999998
X-APPLE-STRUCTURED-LOCATION;VALUE=URI;X-ADDRESS=8356 Agora Pkwy\, Selma\, T
 X\, 78154\, United States;X-APPLE-RADIUS=100;X-TITLE=Selma Stage Stop Park
 :geo:29.5745304,-98.32337059999998
END:VEVENT
BEGIN:VTIMEZONE
TZID:America/Chicago
X-LIC-LOCATION:America/Chicago
BEGIN:DAYLIGHT
DTSTART:20130310T030000
TZOFFSETFROM:-0600
TZOFFSETTO:-0500
TZNAME:CDT
END:DAYLIGHT
END:VTIMEZONE
END:VCALENDAR