BEGIN:VCALENDAR
VERSION:2.0
PRODID:-//wp-events-plugin.com//7.2.3.1//EN
TZID:America/Chicago
X-WR-TIMEZONE:America/Chicago
BEGIN:VEVENT
UID:22@ccgstexas.org
DTSTART;TZID=America/Chicago:20131005T100000
DTEND;TZID=America/Chicago:20131005T150000
DTSTAMP:20130511T165046Z
URL:https://www.ccgstexas.org/events/houston-genealogical-forum-free-semin
 ar-dr-thomas-w-jones/
SUMMARY:Houston Genealogical Forum free seminar: Dr. Thomas W. Jones - Bayl
 and Park Community Center - 5 Oct 13 10:00
DESCRIPTION:Dr. Thomas W. Jones will be presenting four topics:\n\n	“Deb
 unking Misleading Record”- genealogical sources of all kinds contain err
 ors\, both accidental and intentional\, that mislead. Standard tests will 
 expose the errors\, enabling researchers to deduce correct conclusions.\n	
 “Going Beyond the Bare Bones: Reconstructing Your Ancestor’s Lives”-
  learn how to extract information from frequently used genealogical sourc
 es to create biographies that bring ancestors to life.\n	“Solving the My
 stery of the Disappearing Ancestor”- Are you not finding ancestors in t
 he records and places where you logically expect them to be? This presenta
 tion will explain seven reasons why such ancestors seem to have disappeare
 d. Examples of each from actual case studies\, and suggest strategies to h
 elp find their elusive ancestor!\n	“Will Your Genealogical History have 
 Lasting Value?”-learn how to create irreplaceable family histories\, col
 lect family stories and DNA\, share those results\, and publish family com
 pilations with four characteristics–biorgraphy\, accuracy\, documentatio
 n and explanation.\n\nBring your own lunch or there is a form on the websi
 te at www.hgftx.org to preorder from PICNIC.
CATEGORIES:Other Event
LOCATION:Bayland Park Community Center\, 6400 Bissonnet\, Houston\, TX\, 77
 074\, United States
GEO:29.694898;-95.496688
X-APPLE-STRUCTURED-LOCATION;VALUE=URI;X-ADDRESS=6400 Bissonnet\, Houston\, 
 TX\, 77074\, United States;X-APPLE-RADIUS=100;X-TITLE=Bayland Park Communi
 ty Center:geo:29.694898,-95.496688
END:VEVENT
BEGIN:VTIMEZONE
TZID:America/Chicago
X-LIC-LOCATION:America/Chicago
BEGIN:DAYLIGHT
DTSTART:20130310T030000
TZOFFSETFROM:-0600
TZOFFSETTO:-0500
TZNAME:CDT
END:DAYLIGHT
END:VTIMEZONE
END:VCALENDAR