BEGIN:VCALENDAR
VERSION:2.0
PRODID:-//wp-events-plugin.com//7.2.3.1//EN
TZID:America/Chicago
X-WR-TIMEZONE:America/Chicago
BEGIN:VEVENT
UID:23@ccgstexas.org
DTSTART;TZID=America/Chicago:20130727T080000
DTEND;TZID=America/Chicago:20130727T170000
DTSTAMP:20130613T125244Z
URL:https://www.ccgstexas.org/events/glo-genealogy-workshop-of-2013/
SUMMARY:GLO Genealogy Workshop of 2013 - Stephen F. Austin Building\, Austi
 n - 27 Jul 13 08:00
DESCRIPTION:The General Land Office Genealogy Workshop to be held on Saturd
 ay\, July 27.  This event will focus specifically on the resources availa
 ble at the Texas General Land Office for genealogical research\, and is re
 commended for genealogists with all levels of experience.\n\nIf you would 
 like to attend\, please call 512-463-5277 (or 800.998.4GLO for toll free
 )\, and talk to Kevin Klaus or Laurel Neuman. You can also email archiv
 es@glo.texas.gov for more information. Or\, you can download the genealo
 gy workshop flier and mail to:\n\nGLO Archives and Records\nGenealogy Wor
 kshop\n1700 N. Congress Ave.\, Room 131\nAustin\, TX 78701\n\nLearn more b
 y going to the GLO Archives and Records Genealogy page (click here).\n\n\
 nIncluded with $50 registration:\n\n\n\n	Lectures about the importance of 
 using early land records in genealogy\,\n	Lectures about researching ances
 tors that came during the Spanish &amp\; Mexican time period\, prior to 18
 36\n	Lectures about researching ancestors that arrived during the Republic
  of Texas and early statehood era\n	Lectures about researching ancestors i
 nvolved in the German immigration movement in the 1840’s\n	Lectures abou
 t applying GLO resources\n	Tours of the archival vault and scan lab\n	GLO 
 staff will conduct research for you in advance to save time during your v
 isit\n	Up to four hours of staff-assisted research to answer all your ques
 tions on what can be found about your ancestor at the GLO\n	A box lunch\, 
 and\n	Up to 10 free color copies of GLO documents\; a $20 value!\n\n\n\nPl
 ease do not miss this rare opportunity to take part in this special event.
   There are only 20 spots available\, so sign up early\n\n\nSign up befor
 e Monday\, July 22 to avoid late registration fees.\n\n\n\n\n\nTHERE ARE O
 NLY 20 SPOTS AVAILABLE AND THEY ARE GUARANTEED TO FILL UP FAST. IF YOU WA
 NT TO ATTEND YOU NEED TO REGISTER ASAP!\n
CATEGORIES:Other Event
LOCATION:Stephen F. Austin Building\, Austin\, 1700 N. Congress Ave.\, Aust
 in\, Texas\, 78701\, United States
GEO:30.279382;-97.73935999999998
X-APPLE-STRUCTURED-LOCATION;VALUE=URI;X-ADDRESS=1700 N. Congress Ave.\, Aus
 tin\, Texas\, 78701\, United States;X-APPLE-RADIUS=100;X-TITLE=Stephen F. 
 Austin Building\, Austin:geo:30.279382,-97.73935999999998
END:VEVENT
BEGIN:VTIMEZONE
TZID:America/Chicago
X-LIC-LOCATION:America/Chicago
BEGIN:DAYLIGHT
DTSTART:20130310T030000
TZOFFSETFROM:-0600
TZOFFSETTO:-0500
TZNAME:CDT
END:DAYLIGHT
END:VTIMEZONE
END:VCALENDAR